BEGIN:VCALENDAR
VERSION:2.0
PRODID:-//eventon.com NONSGML v1.0//EN
CALSCALE:GREGORIAN
METHOD:PUBLISH
BEGIN:VEVENT
UID:69e7361b7387a
DTSTAMP:20260421T083227Z
DTSTART:20250720T220000Z
DTEND:20250721T020000Z
LOCATION:Lazy Pirate 701 N Lake Park Blvd
SUMMARY:Lazy Pirate
DESCRIPTION:Lazy Pirate\nhttps://resoulband.com/events/lazy-pirate-16/
URL:https://resoulband.com/events/lazy-pirate-16/
END:VEVENT
END:VCALENDAR